Workbook

Sheet Calculating Separate
A1: filename | B1: word count | C1: self punish | D1: self threaten | E1: self oppose | F1: self appeal | G1: self promise | H1: self reward | I1: Total Self attribution | J1: other punish | K1: other threaten | L1: other oppose | M1: other appeal | N1: other promise | O1: other reward | P1: Total other atribution | Q1: I1 | R1: I2 | S1: I3 | T1: I4a | U1: I4b | V1: I5 | W1: P1 | X1: P2 | Y1: P3 | Z1: P4 | AA1: P5
A2: Boris Pre-PM | B2: 18899 | C2: 16 | D2: 13 | E2: 19 | F2: 54 | G2: 7 | H2: 20 | I2: =SUM(C2:H2) -> 129 | J2: 80 | K2: 8 | L2: 58 | M2: 163 | N2: 12 | O2: 85 | P2: =SUM(J2:O2) -> 406 | Q2: 0.2558 | R2: 0.0904 | S2: =1-(B23/C23) -> 0.099332973 | T2: =1-(ABS(Q9-R9)) -> 0.93831776 | U2: =1-ABS(S9-T9) -> 0.75140187 | V2: see percentages | W2: 0.2808 | X2: 0.1051 | Y2: =1-(D16/E16) -> 0.11861487 | Z2: =I2/B16 -> 0.2411215 | AA2: =1-(Y2*Z2) -> 0.97139941
A3: Boris PM | B3: 14066 | C3: 7 | D3: 6 | E3: 19 | F3: 54 | G3: 16 | H3: 17 | I3: =SUM(C3:H3) -> 119 | J3: 43 | K3: 10 | L3: 42 | M3: 121 | N3: 24 | O3: 81 | P3: =SUM(J3:O3) -> 321 | Q3: 0.4622 | R3: 0.23809999 | S3: =1-(B24/C24) -> 0.13107831 | T3: =1-(ABS(Q10-R10)) -> 0.875 | U3: =1-ABS(S10-T10) -> 0.67272727 | V3: see percentages | W3: 0.4081 | X3: 0.2295 | Y3: =1-(D17/E17) -> 0.096864355 | Z3: =I3/B17 -> 0.27045455 | AA3: =1-(Y3*Z3) -> 0.97380259
A4: Pre-Prez Trump | B4: 65733 | C4: 102 | D4: 48 | E4: 103 | F4: 328 | G4: 40 | H4: 99 | I4: =SUM(C4:H4) -> 720 | J4: 320 | K4: 46 | L4: 201 | M4: 663 | N4: 35 | O4: 249 | P4: =SUM(J4:O4) -> 1514 | Q4: 0.2972 | R4: 0.092599996 | S4: =1-(B25/C25) -> 0.12940278 | T4: =1-(ABS(Q11-R11)) -> 0.9042077 | U4: =1-ABS(S11-T11) -> 0.68934646 | V4: see percentages | W4: 0.251 | X4: 0.05 | Y4: =1-(D18/E18) -> 0.13908723 | Z4: =I4/B18 -> 0.32229185 | AA4: =1-(Y4*Z4) -> 0.95517332
A5: Prez Trump | B5: 45031 | C5: 65 | D5: 19 | E5: 68 | F5: 197 | G5: 35 | H5: 85 | I5: =SUM(C5:H5) -> 469 | J5: 225 | K5: 22 | L5: 132 | M5: 427 | N5: 26 | O5: 184 | P5: =SUM(J5:O5) -> 1016 | Q5: 0.3518 | R5: 0.1571 | S5: =1-(B26/C26) -> 0.10806734 | T5: =1-(ABS(Q12-R12)) -> 0.88888889 | U5: =1-ABS(S12-T12) -> 0.75286195 | V5: see percentages | W5: 0.2539 | X5: 0.0591 | Y5: =1-(D19/E19) -> 0.13177119 | Z5: =I5/B19 -> 0.31582492 | AA5: =1-(Y5*Z5) -> 0.95838338
A6: Pre-PM Modi | B6: 30080 | C6: 5 | D6: 2 | E6: 12 | F6: 113 | G6: 12 | H6: 45 | I6: =SUM(C6:H6) -> 189 | J6: 207 | K6: 20 | L6: 80 | M6: 245 | N6: 36 | O6: 192 | P6: =SUM(J6:O6) -> 780 | Q6: 0.7989 | R6: 0.425 | S6: =1-(B27/C27) -> 0.30763416 | T6: =1-(ABS(Q13-R13)) -> 0.84416925 | U6: =1-ABS(S13-T13) -> 0.92672859 | V6: see percentages | W6: 0.2128 | X6: 0.065 | Y6: =1-(D20/E20) -> 0.091585799 | Z6: =I6/B20 -> 0.19504644 | AA6: =1-(Y6*Z6) -> 0.98213652
A7: PM Modi | B7: 23453 | C7: 10 | D7: 1 | E7: 8 | F7: 78 | G7: 7 | H7: 29 | I7: =SUM(C7:H7) -> 133 | J7: 120 | K7: 8 | L7: 39 | M7: 182 | N7: 38 | O7: 176 | P7: =SUM(J7:O7) -> 563 | Q7: 0.7143 | R7: 0.3484 | S7: =1-(B28/C28) -> 0.28430098 | T7: =1-(ABS(Q14-R14)) -> 0.86350575 | U7: =1-ABS(S14-T14) -> 0.96264368 | V7: see percentages | W7: 0.4067 | X7: 0.2197 | Y7: =1-(D21/E21) -> 0.10865731 | Z7: =I7/B21 -> 0.19109195 | AA7: =1-(Y7*Z7) -> 0.97923646
B8: Percentages: | C8: self punish | D8: self threaten | E8: self oppose | F8: self appeal | G8: self promise | H8: self reward | I8: Percentages: | J8: other punish | K8: other threaten | L8: other oppose | M8: other appeal | N8: other promise | O8: other reward | P8: Total percentages | Q8: %positive self | R8: %negative self | S8: % words | T8: % deeds
A9: Boris Pre-PM | C9: =C2/B16*100 -> 2.9906542 | D9: =D2/B16*100 -> 2.4299065 | E9: =E2/B16*100 -> 3.5514019 | F9: =F2/B16*100 -> 10.093458 | G9: =G2/B16*100 -> 1.3084112 | H9: =H2/B16*100 -> 3.7383178 | I9: =SUM(C9:H9) -> 24.11215 | J9: =J2/B16*100 -> 14.953271 | K9: =K2/B16*100 -> 1.4953271 | L9: =L2/B16*100 -> 10.841121 | M9: =M2/B16*100 -> 30.46729 | N9: =N2/B16*100 -> 2.2429907 | O9: =O2/B16*100 -> 15.88785 | P9: =SUM(J9:O9) -> 75.88785 | Q9: =SUM(F9:H9)/100 -> 0.15140187 | R9: =SUM(C9:E9)/100 -> 0.089719626 | S9: =SUM(D9,E9,F9,G9,K9,L9,M9,N9)/100 -> 0.62429907 | T9: =SUM(C9,H9,J9,O9)/100 -> 0.37570093
A10: Boris PM | C10: =C3/B17*100 -> 1.5909091 | D10: =D3/B17*100 -> 1.3636364 | E10: =E3/B17*100 -> 4.3181818 | F10: =F3/B17*100 -> 12.272727 | G10: =G3/B17*100 -> 3.6363636 | H10: =H3/B17*100 -> 3.8636364 | I10: =SUM(C10:H10) -> 27.045455 | J10: =J3/B17*100 -> 9.7727273 | K10: =K3/B17*100 -> 2.2727273 | L10: =L3/B17*100 -> 9.5454545 | M10: =M3/B17*100 -> 27.5 | N10: =N3/B17*100 -> 5.4545455 | O10: =O3/B17*100 -> 18.409091 | P10: =SUM(J10:O10) -> 72.954545 | Q10: =SUM(F10:H10)/100 -> 0.19772727 | R10: =SUM(C10:E10)/100 -> 0.072727273 | S10: =SUM(D10,E10,F10,G10,K10,L10,M10,N10)/100 -> 0.66363636 | T10: =SUM(C10,H10,J10,O10)/100 -> 0.33636364
A11: Pre-Prez Trump | C11: =C4/B18*100 -> 4.5658013 | D11: =D4/B18*100 -> 2.1486124 | E11: =E4/B18*100 -> 4.610564 | F11: =F4/B18*100 -> 14.682184 | G11: =G4/B18*100 -> 1.7905103 | H11: =H4/B18*100 -> 4.431513 | I11: =SUM(C11:H11) -> 32.229185 | J11: =J4/B18*100 -> 14.324082 | K11: =K4/B18*100 -> 2.0590868 | L11: =L4/B18*100 -> 8.9973142 | M11: =M4/B18*100 -> 29.677708 | N11: =N4/B18*100 -> 1.5666965 | O11: =O4/B18*100 -> 11.145927 | P11: =SUM(J11:O11) -> 67.770815 | Q11: =SUM(F11:H11)/100 -> 0.20904208 | R11: =SUM(C11:E11)/100 -> 0.11324978 | S11: =SUM(D11,E11,F11,G11,K11,L11,M11,N11)/100 -> 0.65532677 | T11: =SUM(C11,H11,J11,O11)/100 -> 0.34467323
A12: Prez Trump | C12: =C5/B19*100 -> 4.3771044 | D12: =D5/B19*100 -> 1.2794613 | E12: =E5/B19*100 -> 4.5791246 | F12: =F5/B19*100 -> 13.265993 | G12: =G5/B19*100 -> 2.3569024 | H12: =H5/B19*100 -> 5.7239057 | I12: =SUM(C12:H12) -> 31.582492 | J12: =J5/B19*100 -> 15.151515 | K12: =K5/B19*100 -> 1.4814815 | L12: =L5/B19*100 -> 8.8888889 | M12: =M5/B19*100 -> 28.754209 | N12: =N5/B19*100 -> 1.7508418 | O12: =O5/B19*100 -> 12.390572 | P12: =SUM(J12:O12) -> 68.417508 | Q12: =SUM(F12:H12)/100 -> 0.21346801 | R12: =SUM(C12:E12)/100 -> 0.1023569 | S12: =SUM(D12,E12,F12,G12,K12,L12,M12,N12)/100 -> 0.62356902 | T12: =SUM(C12,H12,J12,O12)/100 -> 0.37643098
A13: Pre-PM Modi | C13: =C6/B20*100 -> 0.51599587 | D13: =D6/B20*100 -> 0.20639835 | E13: =E6/B20*100 -> 1.2383901 | F13: =F6/B20*100 -> 11.661507 | G13: =G6/B20*100 -> 1.2383901 | H13: =H6/B20*100 -> 4.6439628 | I13: =SUM(C13:H13) -> 19.504644 | J13: =J6/B20*100 -> 21.362229 | K13: =K6/B20*100 -> 2.0639835 | L13: =L6/B20*100 -> 8.255934 | M13: =M6/B20*100 -> 25.283798 | N13: =N6/B20*100 -> 3.7151703 | O13: =O6/B20*100 -> 19.814241 | P13: =SUM(J13:O13) -> 80.495356 | Q13: =SUM(F13:H13)/100 -> 0.1754386 | R13: =SUM(C13:E13)/100 -> 0.019607843 | S13: =SUM(D13,E13,F13,G13,K13,L13,M13,N13)/100 -> 0.53663571 | T13: =SUM(C13,H13,J13,O13)/100 -> 0.46336429
A14: PM Modi | C14: =C7/B21*100 -> 1.4367816 | D14: =D7/B21*100 -> 0.14367816 | E14: =E7/B21*100 -> 1.1494253 | F14: =F7/B21*100 -> 11.206897 | G14: =G7/B21*100 -> 1.0057471 | H14: =H7/B21*100 -> 4.1666667 | I14: =SUM(C14:H14) -> 19.109195 | J14: =J7/B21*100 -> 17.241379 | K14: =K7/B21*100 -> 1.1494253 | L14: =L7/B21*100 -> 5.6034483 | M14: =M7/B21*100 -> 26.149425 | N14: =N7/B21*100 -> 5.4597701 | O14: =O7/B21*100 -> 25.287356 | P14: =SUM(J14:O14) -> 80.890805 | Q14: =SUM(F14:H14)/100 -> 0.1637931 | R14: =SUM(C14:E14)/100 -> 0.027298851 | S14: =SUM(D14,E14,F14,G14,K14,L14,M14,N14)/100 -> 0.51867816 | T14: =SUM(C14,H14,J14,O14)/100 -> 0.48132184
A15: Other IQV (p-3) | B15: Total attributions | C15: Percent | D15: Total observed differences | E15: Max possible differences | F15: %other punish^2 | G15: %other threaten^2 | H15: %other oppose^2 | I15: %other appeal^2 | J15: %other promise^2 | K15: %other reward^2
A16: Boris Pre-PM | B16: =I2+P2 -> 535 | C16: =SUM(C9,D9,E9,F9,G9,H9,J9,K9,L9,M9,N9,O9) -> 100 | D16: =6*(10000-(SUM(F16,G16,H16,I16,J16,K16))) -> 44069.257 | E16: =100^2*(6-1) -> 50000 | F16: =((J2/$P2)*100)^2 -> 388.2647 | G16: =((K2/$P2)*100)^2 -> 3.882647 | H16: =((L2/$P2)*100)^2 -> 204.08163 | I16: =((M2/$P2)*100)^2 -> 1611.8445 | J16: =((N2/$P2)*100)^2 -> 8.7359557 | K16: =((O2/$P2)*100)^2 -> 438.31445
A17: Boris PM | B17: =I3+P3 -> 440 | C17: =SUM(C10,D10,E10,F10,G10,H10,J10,K10,L10,M10,N10,O10) -> 100 | D17: =6*(10000-(SUM(F17,G17,H17,I17,J17,K17))) -> 45156.782 | E17: =100^2*(6-1) -> 50000 | F17: =((J3/$P3)*100)^2 -> 179.44313 | G17: =((K3/$P3)*100)^2 -> 9.7048748 | H17: =((L3/$P3)*100)^2 -> 171.19399 | I17: =((M3/$P3)*100)^2 -> 1420.8907 | J17: =((N3/$P3)*100)^2 -> 55.900079 | K17: =((O3/$P3)*100)^2 -> 636.73683
A18: Pre-Prez Trump | B18: =I4+P4 -> 2234 | C18: =SUM(C11,D11,E11,F11,G11,H11,J11,K11,L11,M11,N11,O11) -> 100 | D18: =6*(10000-(SUM(F18,G18,H18,I18,J18,K18))) -> 43045.638 | E18: =100^2*(6-1) -> 50000 | F18: =((J4/$P4)*100)^2 -> 446.73318 | G18: =((K4/$P4)*100)^2 -> 9.2313223 | H18: =((L4/$P4)*100)^2 -> 176.25456 | I18: =((M4/$P4)*100)^2 -> 1917.6763 | J18: =((N4/$P4)*100)^2 -> 5.3442201 | K18: =((O4/$P4)*100)^2 -> 270.48734
A19: Prez Trump | B19: =I5+P5 -> 1485 | C19: =SUM(C12,D12,E12,F12,G12,H12,J12,K12,L12,M12,N12,O12) -> 100 | D19: =6*(10000-(SUM(F19,G19,H19,I19,J19,K19))) -> 43411.441 | E19: =100^2*(6-1) -> 50000 | F19: =((J5/$P5)*100)^2 -> 490.43067 | G19: =((K5/$P5)*100)^2 -> 4.6887594 | H19: =((L5/$P5)*100)^2 -> 168.79534 | I19: =((M5/$P5)*100)^2 -> 1766.3157 | J19: =((N5/$P5)*100)^2 -> 6.5487631 | K19: =((O5/$P5)*100)^2 -> 327.98066
A20: Pre-PM Modi | B20: =I6+P6 -> 969 | C20: =SUM(C13,D13,E13,F13,G13,H13,J13,K13,L13,M13,N13,O13) -> 100 | D20: =6*(10000-(SUM(F20,G20,H20,I20,J20,K20))) -> 45420.71 | E20: =100^2*(6-1) -> 50000 | F20: =((J6/$P6)*100)^2 -> 704.28994 | G20: =((K6/$P6)*100)^2 -> 6.574622 | H20: =((L6/$P6)*100)^2 -> 105.19395 | I20: =((M6/$P6)*100)^2 -> 986.60421 | J20: =((N6/$P6)*100)^2 -> 21.301775 | K20: =((O6/$P6)*100)^2 -> 605.91716
A21: PM Modi | B21: =I7+P7 -> 696 | C21: =SUM(C14,D14,E14,F14,G14,H14,J14,K14,L14,M14,N14,O14) -> 100 | D21: =6*(10000-(SUM(F21,G21,H21,I21,J21,K21))) -> 44567.134 | E21: =100^2*(6-1) -> 50000 | F21: =((J7/$P7)*100)^2 -> 454.3031 | G21: =((K7/$P7)*100)^2 -> 2.0191249 | H21: =((L7/$P7)*100)^2 -> 47.985765 | I21: =((M7/$P7)*100)^2 -> 1045.0233 | J21: =((N7/$P7)*100)^2 -> 45.556506 | K21: =((O7/$P7)*100)^2 -> 977.25645
A22: self IQV (I-3) | B22: Total observed differences | C22: Max possible differences | D22: %self punish | E22: %self threaten | F22: %self oppose | G22: %self appeal | H22: %self promise | I22: %self reward | J22: Total self attributions | K22: total percent | L22: % positive self | M22: % negative self | N22: I-4a
A23: Boris Pre-PM | B23: =6*(100^2-(SUM(D30:I30))) -> 45033.351 | C23: =100^2*(6-1) -> 50000 | D23: =(C2/I2)*100 -> 12.403101 | E23: =(D2/I2)*100 -> 10.077519 | F23: =(E2/I2)*100 -> 14.728682 | G23: =(F2/I2)*100 -> 41.860465 | H23: =(G2/I2)*100 -> 5.4263566 | I23: =(H2/I2)*100 -> 15.503876 | J23: =SUM(C2:H2) -> 129 | K23: =SUM(D23:I23) -> 100 | L23: =SUM(G23:I23)/100 -> 0.62790698 | M23: =SUM(D23:F23)/100 -> 0.37209302 | N23: =1-(ABS(L23-M23)) -> 0.74418605
A24: Boris PM | B24: =6*(100^2-(SUM(D31:I31))) -> 43446.084 | C24: =100^2*(6-1) -> 50000 | D24: =(C3/I3)*100 -> 5.8823529 | E24: =(D3/I3)*100 -> 5.0420168 | F24: =(E3/I3)*100 -> 15.966387 | G24: =(F3/I3)*100 -> 45.378151 | H24: =(G3/I3)*100 -> 13.445378 | I24: =(H3/I3)*100 -> 14.285714 | J24: =SUM(C3:H3) -> 119 | K24: =SUM(D24:I24) -> 100 | L24: =SUM(G24:I24)/100 -> 0.73109244 | M24: =SUM(D24:F24)/100 -> 0.26890756 | N24: =1-(ABS(L24-M24)) -> 0.53781513
A25: Pre-Prez Trump | B25: =6*(100^2-(SUM(D32:I32))) -> 43529.861 | C25: =100^2*(6-1) -> 50000 | D25: =(C4/I4)*100 -> 14.166667 | E25: =(D4/I4)*100 -> 6.6666667 | F25: =(E4/I4)*100 -> 14.305556 | G25: =(F4/I4)*100 -> 45.555556 | H25: =(G4/I4)*100 -> 5.5555556 | I25: =(H4/I4)*100 -> 13.75 | J25: =SUM(C4:H4) -> 720 | K25: =SUM(D25:I25) -> 100 | L25: =SUM(G25:I25)/100 -> 0.64861111 | M25: =SUM(D25:F25)/100 -> 0.35138889 | N25: =1-(ABS(L25-M25)) -> 0.70277778
A26: Prez Trump | B26: =6*(100^2-(SUM(D33:I33))) -> 44596.633 | C26: =100^2*(6-1) -> 50000 | D26: =(C5/I5)*100 -> 13.859275 | E26: =(D5/I5)*100 -> 4.0511727 | F26: =(E5/I5)*100 -> 14.498934 | G26: =(F5/I5)*100 -> 42.004264 | H26: =(G5/I5)*100 -> 7.4626866 | I26: =(H5/I5)*100 -> 18.123667 | J26: =SUM(C5:H5) -> 469 | K26: =SUM(D26:I26) -> 100 | L26: =SUM(G26:I26)/100 -> 0.67590618 | M26: =SUM(D26:F26)/100 -> 0.32409382 | N26: =1-(ABS(L26-M26)) -> 0.64818763
A27: Pre-PM Modi | B27: =6*(100^2-(SUM(D34:I34))) -> 34618.292 | C27: =100^2*(6-1) -> 50000 | D27: =(C6/I6)*100 -> 2.6455026 | E27: =(D6/I6)*100 -> 1.0582011 | F27: =(E6/I6)*100 -> 6.3492063 | G27: =(F6/I6)*100 -> 59.78836 | H27: =(G6/I6)*100 -> 6.3492063 | I27: =(H6/I6)*100 -> 23.809524 | J27: =SUM(C6:H6) -> 189 | K27: =SUM(D27:I27) -> 100 | L27: =SUM(G27:I27)/100 -> 0.8994709 | M27: =SUM(D27:F27)/100 -> 0.1005291 | N27: =1-(ABS(L27-M27)) -> 0.2010582
A28: PM Modi | B28: =6*(100^2-(SUM(D35:I35))) -> 35784.951 | C28: =100^2*(6-1) -> 50000 | D28: =(C7/I7)*100 -> 7.518797 | E28: =(D7/I7)*100 -> 0.7518797 | F28: =(E7/I7)*100 -> 6.0150376 | G28: =(F7/I7)*100 -> 58.646617 | H28: =(G7/I7)*100 -> 5.2631579 | I28: =(H7/I7)*100 -> 21.804511 | J28: =SUM(C7:H7) -> 133 | K28: =SUM(D28:I28) -> 100 | L28: =SUM(G28:I28)/100 -> 0.85714286 | M28: =SUM(D28:F28)/100 -> 0.14285714 | N28: =1-(ABS(L28-M28)) -> 0.28571429
D29: %self punish^2 | E29: %self threaten^2 | F29: %self oppose^2 | G29: %self appeal^2 | H29: %self promise^2 | I29: %self reward^2
A30: =SUM(B2:B7) -> 197262 | D30: =D23^2 -> 153.83691 | E30: =E23^2 -> 101.5564 | F30: =F23^2 -> 216.93408 | G30: =G23^2 -> 1752.2985 | H30: =H23^2 -> 29.445346 | I30: =I23^2 -> 240.37017
A31: =SUM(P2:P7,I2:I7) -> 6359 | D31: =D24^2 -> 34.602076 | E31: =E24^2 -> 25.421933 | F31: =F24^2 -> 254.9255 | G31: =G24^2 -> 2059.1766 | H31: =H24^2 -> 180.77819 | I31: =I24^2 -> 204.08163
D32: =D25^2 -> 200.69444 | E32: =E25^2 -> 44.444444 | F32: =F25^2 -> 204.64892 | G32: =G25^2 -> 2075.3086 | H32: =H25^2 -> 30.864198 | I32: =I25^2 -> 189.0625
D33: =D26^2 -> 192.07951 | E33: =E26^2 -> 16.412 | F33: =F26^2 -> 210.21908 | G33: =G26^2 -> 1764.3582 | H33: =H26^2 -> 55.691691 | I33: =I26^2 -> 328.46732
D34: =D27^2 -> 6.9986842 | E34: =E27^2 -> 1.1197895 | F34: =F27^2 -> 40.312421 | G34: =G27^2 -> 3574.648 | H34: =H27^2 -> 40.312421 | I34: =I27^2 -> 566.89342
D35: =D28^2 -> 56.532308 | E35: =E28^2 -> 0.56532308 | F35: =F28^2 -> 36.180677 | G35: =G28^2 -> 3439.4256 | H35: =H28^2 -> 27.700831 | I35: =I28^2 -> 475.43671

Sheet Calculating singles
A1: Person | B1: word count | C1: self punish | D1: self threaten | E1: self oppose | F1: self appeal | G1: self promise | H1: self reward | I1: Total Self attribution | J1: other punish | K1: other threaten | L1: other oppose | M1: other appeal | N1: other promise | O1: other reward | P1: Total other atribution | Q1: I1 | R1: I2 | S1: I3 | T1: I4a | U1: I4b | V1: I5 | W1: P1 | X1: P2 | Y1: P3 | Z1: P4 | AA1: P5
A2: Boris Johnson | B2: 32965 | C2: 23 | D2: 19 | E2: 38 | F2: 108 | G2: 23 | H2: 37 | I2: =SUM(C2:H2) -> 248 | J2: 123 | K2: 18 | L2: 100 | M2: 284 | N2: 36 | O2: 166 | P2: =SUM(J2:O2) -> 727 | Q2: 0.3548 | R2: 0.1613 | S2: =1-(B14/C14) -> 0.11014568 | T2: =1-(ABS(Q6-R6)) -> 0.90974359 | U2: =1-ABS(S6-T6) -> 0.71589744 | V2: see percentages | W2: 0.337 | X2: 0.16 | Y2: =1-(D10/E10) -> 0.10642254 | Z2: =I2/B10 -> 0.25435897 | AA2: =1-(Y2*Z2) -> 0.97293047
A3: Donald Trump | B3: 110764 | C3: 167 | D3: 67 | E3: 171 | F3: 525 | G3: 75 | H3: 184 | I3: =SUM(C3:H3) -> 1189 | J3: 545 | K3: 68 | L3: 333 | M3: 1090 | N3: 61 | O3: 433 | P3: =SUM(J3:O3) -> 2530 | Q3: 0.3188 | R3: 0.118 | S3: =1-(B15/C15) -> 0.11977314 | T3: =1-(ABS(Q7-R7)) -> 0.89809088 | U3: =1-ABS(S7-T7) -> 0.71470825 | V3: see percentages | W3: 0.2522 | X3: 0.0536 | Y3: =1-(D11/E11) -> 0.13592426 | Z3: =I3/B11 -> 0.3197096 | AA3: =1-(Y3*Z3) -> 0.95654371
A4: Narendra modi | B4: 53533 | C4: 15 | D4: 3 | E4: 20 | F4: 191 | G4: 19 | H4: 74 | I4: =SUM(C4:H4) -> 322 | J4: 327 | K4: 28 | L4: 119 | M4: 427 | N4: 74 | O4: 368 | P4: =SUM(J4:O4) -> 1343 | Q4: 0.764 | R4: 0.3934 | S4: =1-(B16/C16) -> 0.29711045 | T4: =1-(ABS(Q8-R8)) -> 0.85225225 | U4: =1-ABS(S8-T8) -> 0.94174174 | V4: see percentages | W4: 0.2941 | X4: 0.1298 | Y4: =1-(D12/E12) -> 0.096135002 | Z4: =I4/B12 -> 0.19339339 | AA4: =1-(Y4*Z4) -> 0.98140813
B5: Percentages: | C5: self punish | D5: self threaten | E5: self oppose | F5: self appeal | G5: self promise | H5: self reward | I5: total self %: | J5: other punish | K5: other threaten | L5: other oppose | M5: other appeal | N5: other promise | O5: other reward | P5: total other %: | Q5: %positive self | R5: %negative self | S5: % words | T5: % deeds
A6: Boris Johnson | C6: =(C2/$B$10)*100 -> 2.3589744 | D6: =(D2/$B$10)*100 -> 1.9487179 | E6: =(E2/$B$10)*100 -> 3.8974359 | F6: =(F2/$B$10)*100 -> 11.076923 | G6: =(G2/$B$10)*100 -> 2.3589744 | H6: =(H2/$B$10)*100 -> 3.7948718 | I6: =SUM(C6:H6) -> 25.435897 | J6: =(J2/$B$10)*100 -> 12.615385 | K6: =(K2/$B$10)*100 -> 1.8461538 | L6: =(L2/$B$10)*100 -> 10.25641 | M6: =(M2/$B$10)*100 -> 29.128205 | N6: =(N2/$B$10)*100 -> 3.6923077 | O6: =(O2/$B$10)*100 -> 17.025641 | P6: =SUM(J6:O6) -> 74.564103 | Q6: =SUM(F6:H6)/100 -> 0.17230769 | R6: =SUM(C6:E6)/100 -> 0.082051282 | S6: =SUM(D6,E6,F6,G6,K6,L6,M6,N6)/100 -> 0.64205128 | T6: =SUM(C6,H6,J6,O6)/100 -> 0.35794872
A7: Donald Trump | C7: =(C3/$B$11)*100 -> 4.4904544 | D7: =(D3/$B$11)*100 -> 1.8015596 | E7: =(E3/$B$11)*100 -> 4.5980102 | F7: =(F3/$B$11)*100 -> 14.116698 | G7: =(G3/$B$11)*100 -> 2.0166711 | H7: =(H3/$B$11)*100 -> 4.9475666 | I7: =SUM(C7:H7) -> 31.97096 | J7: =(J3/$B$11)*100 -> 14.654477 | K7: =(K3/$B$11)*100 -> 1.8284485 | L7: =(L3/$B$11)*100 -> 8.9540199 | M7: =(M3/$B$11)*100 -> 29.308954 | N7: =(N3/$B$11)*100 -> 1.6402259 | O7: =(O3/$B$11)*100 -> 11.642915 | P7: =SUM(J7:O7) -> 68.02904 | Q7: =SUM(F7:H7)/100 -> 0.21080936 | R7: =SUM(C7:E7)/100 -> 0.10890024 | S7: =SUM(D7,E7,F7,G7,K7,L7,M7,N7)/100 -> 0.64264587 | T7: =SUM(C7,H7,J7,O7)/100 -> 0.35735413
A8: Narendra modi | C8: =(C4/$B$12)*100 -> 0.9009009 | D8: =(D4/$B$12)*100 -> 0.18018018 | E8: =(E4/$B$12)*100 -> 1.2012012 | F8: =(F4/$B$12)*100 -> 11.471471 | G8: =(G4/$B$12)*100 -> 1.1411411 | H8: =(H4/$B$12)*100 -> 4.4444444 | I8: =SUM(C8:H8) -> 19.339339 | J8: =(J4/$B$12)*100 -> 19.63964 | K8: =(K4/$B$12)*100 -> 1.6816817 | L8: =(L4/$B$12)*100 -> 7.1471471 | M8: =(M4/$B$12)*100 -> 25.645646 | N8: =(N4/$B$12)*100 -> 4.4444444 | O8: =(O4/$B$12)*100 -> 22.102102 | P8: =SUM(J8:O8) -> 80.660661 | Q8: =SUM(F8:H8)/100 -> 0.17057057 | R8: =SUM(C8:E8)/100 -> 0.022822823 | S8: =SUM(D8,E8,F8,G8,K8,L8,M8,N8)/100 -> 0.52912913 | T8: =SUM(C8,H8,J8,O8)/100 -> 0.47087087
A9: Other IQV (P-3) | B9: Total attributions | C9: Percent | D9: Total observed differences | E9: Max possible differences | F9: %other punish^2 | G9: %other threaten^2 | H9: %other oppose^2 | I9: %other appeal^2 | J9: %other promise^2 | K9: %other reward^2
A10: Boris Johnson | B10: =I2+P2 -> 975 | C10: =SUM(P6+I6) -> 100 | D10: =6*(10000-(SUM(F10:Q10))) -> 44678.873 | E10: =100^2*(6-1) -> 50000 | F10: =((J2/$P2)*100)^2 -> 286.2473 | G10: =((K2/$P2)*100)^2 -> 6.1302218 | H10: =((L2/$P2)*100)^2 -> 189.20438 | I10: =((M2/$P2)*100)^2 -> 1526.0468 | J10: =((N2/$P2)*100)^2 -> 24.520887 | K10: =((O2/$P2)*100)^2 -> 521.37158
A11: Donald Trump | B11: =I3+P3 -> 3719 | C11: =SUM(P7+I7) -> 100 | D11: =6*(10000-(SUM(F11:Q11))) -> 43203.787 | E11: =100^2*(6-1) -> 50000 | F11: =((J3/$P3)*100)^2 -> 464.03631 | G11: =((K3/$P3)*100)^2 -> 7.2239841 | H11: =((L3/$P3)*100)^2 -> 173.2397 | I11: =((M3/$P3)*100)^2 -> 1856.1452 | J11: =((N3/$P3)*100)^2 -> 5.813245 | K11: =((O3/$P3)*100)^2 -> 292.91037
A12: Narendra modi | B12: =I4+P4 -> 1665 | C12: =SUM(P8+I8) -> 100 | D12: =6*(10000-(SUM(F12:Q12))) -> 45193.25 | E12: =100^2*(6-1) -> 50000 | F12: =((J4/$P4)*100)^2 -> 592.84816 | G12: =((K4/$P4)*100)^2 -> 4.3467437 | H12: =((L4/$P4)*100)^2 -> 78.513059 | I12: =((M4/$P4)*100)^2 -> 1010.8896 | J12: =((N4/$P4)*100)^2 -> 30.360674 | K12: =((O4/$P4)*100)^2 -> 750.83345
A13: self IQV (I-3) | B13: Total observed differences | C13: Max possible differences | D13: %self punish | E13: %self threaten | F13: %self oppose | G13: %self appeal | H13: %self promise | I13: %self reward | J13: total percent | K13: % positive self | L13: % negative self | M13: I-4a
A14: Boris Johnson | B14: =6*(100^2-(SUM(D18:I18))) -> 44492.716 | C14: =100^2*(6-1) -> 50000 | D14: =(C2/$I2)*100 -> 9.2741935 | E14: =(D2/$I2)*100 -> 7.6612903 | F14: =(E2/$I2)*100 -> 15.322581 | G14: =(F2/$I2)*100 -> 43.548387 | H14: =(G2/$I2)*100 -> 9.2741935 | I14: =(H2/$I2)*100 -> 14.919355 | J14: =SUM(D14:I14) -> 100 | K14: =SUM(G14:I14)/100 -> 0.67741935 | L14: =SUM(D14:F14)/100 -> 0.32258065 | M14: =1-(ABS(K14-L14)) -> 0.64516129
A15: Donald Trump | B15: =6*(100^2-(SUM(D19:I19))) -> 44011.343 | C15: =100^2*(6-1) -> 50000 | D15: =(C3/$I3)*100 -> 14.045416 | E15: =(D3/$I3)*100 -> 5.6349874 | F15: =(E3/$I3)*100 -> 14.381833 | G15: =(F3/$I3)*100 -> 44.154752 | H15: =(G3/$I3)*100 -> 6.3078217 | I15: =(H3/$I3)*100 -> 15.475189 | J15: =SUM(D15:I15) -> 100 | K15: =SUM(G15:I15)/100 -> 0.65937763 | L15: =SUM(D15:F15)/100 -> 0.34062237 | M15: =1-(ABS(K15-L15)) -> 0.68124474
A16: Narendra modi | B16: =6*(100^2-(SUM(D20:I20))) -> 35144.477 | C16: =100^2*(6-1) -> 50000 | D16: =(C4/$I4)*100 -> 4.6583851 | E16: =(D4/$I4)*100 -> 0.93167702 | F16: =(E4/$I4)*100 -> 6.2111801 | G16: =(F4/$I4)*100 -> 59.31677 | H16: =(G4/$I4)*100 -> 5.9006211 | I16: =(H4/$I4)*100 -> 22.981366 | J16: =SUM(D16:I16) -> 100 | K16: =SUM(G16:I16)/100 -> 0.88198758 | L16: =SUM(D16:F16)/100 -> 0.11801242 | M16: =1-(ABS(K16-L16)) -> 0.23602484
D17: %other punish^2 | E17: %other threaten^2 | F17: %other oppose^2 | G17: %other appeal^2 | H17: %other promise^2 | I17: %other reward^2
D18: =D14^2 -> 86.010666 | E18: =E14^2 -> 58.695369 | F18: =F14^2 -> 234.78148 | G18: =G14^2 -> 1896.462 | H18: =H14^2 -> 86.010666 | I18: =I14^2 -> 222.58715
D19: =D15^2 -> 197.27372 | E19: =E15^2 -> 31.753083 | F19: =F15^2 -> 206.83713 | G19: =G15^2 -> 1949.6421 | H19: =H15^2 -> 39.788615 | I19: =I15^2 -> 239.48148
D20: =D16^2 -> 21.700552 | E20: =E16^2 -> 0.86802207 | F20: =F16^2 -> 38.578759 | G20: =G16^2 -> 3518.4792 | H20: =H16^2 -> 34.81733 | I20: =I16^2 -> 528.1432

Sheet Summary
A1: Generalized summary | B1: I1 | C1: I2 | D1: I3 | E1: I4a | F1: I4b | G1: I5 | H1: P1 | I1: P2 | J1: P3 | K1: P4 | L1: P5 | M1: Descriptive Statistics | O1: I1 | P1: I2 | Q1: I3NEW | R1: I4A | S1: I4B | T1: I5AP | U1: I5PR | V1: I5RE | W1: I5OP | X1: I5TH | Y1: I5PU | Z1: P1 | AA1: P2 | AB1: P3NEW | AC1: P4 | AD1: P5NEW | AE1: Valid N (listwise)
A2: Boris Pre-PM | B2: 0.2558 | C2: 0.0904 | D2: 0.099332973 | E2: 0.93831776 | F2: 0.75140187 | G2: | | H2: 0.2808 | I2: 0.1051 | J2: 0.11861487 | K2: 0.21121495 | L2: 0.97494677 | N2: N | O2: 168 | P2: 168 | Q2: 168 | R2: 168 | S2: 168 | T2: 168 | U2: 168 | V2: 168 | W2: 168 | X2: 168 | Y2: 168 | Z2: 168 | AA2: 168 | AB2: 168 | AC2: 168 | AD2: 168 | AE2: 168
A3: Boris PM | B3: 0.4622 | C3: 0.23809999 | D3: 0.13107831 | E3: 0.875 | F3: 0.67272727 | G3: | | H3: 0.4081 | I3: 0.2295 | J3: 0.096864355 | K3: 0.25454545 | L3: 0.97534362 | N3: Minimum | O3: -0.6 | P3: -0.58333333 | Q3: 0.0059171598 | R3: 0.066666667 | S3: 0 | T3: 0 | U3: 0 | V3: 0 | W3: 0 | X3: 0 | Y3: 0 | Z3: -0.5 | AA3: -0.48387097 | AB3: 0.02585034 | AC3: 0.023809524 | AD3: 0.88480204
A4: Pre-Prez Trump | B4: 0.2972 | C4: 0.092599996 | D4: 0.12940278 | E4: 0.9042077 | F4: 0.68934646 | G4: | | H4: 0.251 | I4: 0.05 | J4: 0.13908723 | K4: 0.27663384 | L4: 0.96152376 | N4: Maximum | O4: 0.93333333 | P4: 0.60606061 | Q4: 0.81666667 | R4: 1 | S4: 1 | T4: 0.91666667 | U4: 0.5 | V4: 0.66666667 | W4: 0.6 | X4: 0.5 | Y4: 0.66666667 | Z4: 1 | AA4: 0.69230769 | AB4: 0.30816327 | AC4: 0.52272727 | AD4: 0.99755539
A5: Prez Trump | B5: 0.3518 | C5: 0.1571 | D5: 0.10806734 | E5: 0.88888889 | F5: 0.75286195 | G5: | | H5: 0.2539 | I5: 0.0591 | J5: 0.13177119 | K5: 0.27205387 | L5: 0.96415114 | N5: Mean | O5: 0.34580009 | P5: 0.13880048 | Q5: 0.27213986 | R5: 0.59907914 | S5: 0.49202963 | T5: 0.46337644 | U5: 0.064915679 | V5: 0.14460792 | W5: 0.16641941 | X5: 0.037830907 | Y5: 0.12284964 | Z5: 0.27320144 | AA5: 0.12325928 | AB5: 0.12490684 | AC5: 0.20684805 | AD5: 0.97431587
A6: Pre-PM Modi | B6: 0.7989 | C6: 0.425 | D6: 0.30763416 | E6: 0.84416925 | F6: 0.92672859 | G6: | | H6: 0.2128 | I6: 0.065 | J6: 0.091585799 | K6: 0.18988648 | L6: 0.98260909 | N6: Std. Deviation | O6: 0.33584301 | P6: 0.22822247 | Q6: 0.1425578 | R6: 0.26717827 | S6: 0.30367033 | T6: 0.1879516 | U6: 0.085465818 | V6: 0.13697443 | W6: 0.1496717 | X6: 0.073228399 | Y6: 0.14452274 | Z6: 0.27980137 | AA6: 0.21861545 | AB6: 0.057313871 | AC6: 0.11420691 | AD6: 0.02082597
A7: PM Modi | B7: 0.7143 | C7: 0.3484 | D7: 0.28430098 | E7: 0.86350575 | F7: 0.96264368 | G7: | | H7: 0.4067 | I7: 0.2197 | J7: 0.10865731 | K7: 0.17672414 | L7: 0.98079763
A8: World leader Avg | B8: 0.34580009 | C8: 0.13880048 | D8: 0.27213986 | E8: 0.59907914 | F8: 0.49202963 | G8: | | H8: 0.27320144 | I8: 0.12325928 | J8: 0.12490684 | K8: 0.20684805 | L8: 0.97431587
B9: self punish | C9: self threaten | D9: self oppose | E9: self appeal | F9: self promise | G9: self reward | H9: total (should be 100) | Q9: Summary singles
A10: Boris Pre-PM | B10: 12.403101 | C10: 10.077519 | D10: 14.728682 | E10: 41.860465 | F10: 5.4263566 | G10: 15.503876 | H10: =SUM(B10:G10) -> 100 | Q10: Person | R10: I1 | S10: I2 | T10: I3 | U10: I4a | V10: I4b | W10: I5 | X10: P1 | Y10: P2 | Z10: P3 | AA10: P4 | AB10: P5
A11: Boris PM | B11: 5.8823529 | C11: 5.0420168 | D11: 15.966387 | E11: 45.378151 | F11: 13.445378 | G11: 14.285714 | H11: =SUM(B11:G11) -> 100 | Q11: Boris Johnson | R11: 0.3548 | S11: 0.1613 | T11: 0.11014568 | U11: 0.90974359 | V11: 0.71589744 | W11: | | X11: 0.337 | Y11: 0.16 | Z11: 0.10642254 | AA11: 0.25435897 | AB11: 0.97293047
A12: Pre-Prez Trump | B12: 14.166667 | C12: 6.6666667 | D12: 14.305556 | E12: 45.555556 | F12: 5.5555556 | G12: 13.75 | H12: =SUM(B12:G12) -> 100 | Q12: Donald Trump | R12: 0.3188 | S12: 0.118 | T12: 0.11977314 | U12: 0.89809088 | V12: 0.71470825 | W12: | | X12: 0.2522 | Y12: 0.0536 | Z12: 0.13592426 | AA12: 0.3197096 | AB12: 0.95654371
A13: Prez Trump | B13: 13.859275 | C13: 4.0511727 | D13: 14.498934 | E13: 42.004264 | F13: 7.4626866 | G13: 18.123667 | H13: =SUM(B13:G13) -> 100 | Q13: Narendra modi | R13: 0.764 | S13: 0.3934 | T13: 0.29711045 | U13: 0.85225225 | V13: 0.94174174 | W13: | | X13: 0.2941 | Y13: 0.1298 | Z13: 0.096135002 | AA13: 0.19339339 | AB13: 0.98140813
A14: Pre-PM Modi | B14: 2.6455026 | C14: 1.0582011 | D14: 6.3492063 | E14: 59.78836 | F14: 6.3492063 | G14: 23.809524 | H14: =SUM(B14:G14) -> 100 | Q14: World leader Avg | R14: 0.34580009 | S14: 0.13880048 | T14: 0.27213986 | U14: 0.59907914 | V14: 0.49202963 | W14: | | X14: 0.27320144 | Y14: 0.12325928 | Z14: 0.12490684 | AA14: 0.20684805 | AB14: 0.97431587
A15: PM Modi | B15: 7.518797 | C15: 0.7518797 | D15: 6.0150376 | E15: 58.646617 | F15: 5.2631579 | G15: 21.804511 | H15: =SUM(B15:G15) -> 100 | R15: self punish | S15: self threaten | T15: self oppose | U15: self appeal | V15: self promise | W15: self reward | X15: total (should be 100)
A16: World Leader Avg | B16: =0.122849636*100 -> 12.284964 | C16: =0.03783090724*100 -> 3.7830907 | D16: =0.1664194132*100 -> 16.641941 | E16: =0.4633764431*100 -> 46.337644 | F16: =0.06491567916*100 -> 6.4915679 | G16: =0.1446079212*100 -> 14.460792 | H16: =SUM(B16:G16) -> 100 | Q16: Boris Johnson | R16: 9.2741935 | S16: 7.6612903 | T16: 15.322581 | U16: 43.548387 | V16: 9.2741935 | W16: 14.919355 | X16: 100
B17: self punish | C17: self threaten | D17: self oppose | E17: self appeal | F17: self promise | G17: self reward | H17: other punish | I17: other threaten | J17: other oppose | K17: other appeal | L17: other promise | M17: other reward | N17: Total (should add up to 100) | Q17: Donald Trump | R17: 14.045416 | S17: 5.6349874 | T17: 14.381833 | U17: 44.154752 | V17: 6.3078217 | W17: 15.475189 | X17: 100
A18: Boris Pre-PM | B18: 2.9906542 | C18: 2.4299065 | D18: 3.5514019 | E18: 10.093458 | F18: 1.3084112 | G18: 3.7383178 | H18: 14.953271 | I18: 1.4953271 | J18: 10.841121 | K18: 30.46729 | L18: 2.2429907 | M18: 15.88785 | N18: =SUM(B18:M18) -> 100 | Q18: Narendra modi | R18: 4.6583851 | S18: 0.93167702 | T18: 6.2111801 | U18: 59.31677 | V18: 5.9006211 | W18: 22.981366 | X18: 100
A19: Boris PM | B19: 1.5909091 | C19: 1.3636364 | D19: 4.3181818 | E19: 12.272727 | F19: 3.6363636 | G19: 3.8636364 | H19: 9.7727273 | I19: 2.2727273 | J19: 9.5454545 | K19: 27.5 | L19: 5.4545455 | M19: 18.409091 | N19: =SUM(B19:M19) -> 100 | Q19: World Leader Avg | R19: =0.122849636*100 -> 12.284964 | S19: =0.03783090724*100 -> 3.7830907 | T19: =0.1664194132*100 -> 16.641941 | U19: =0.4633764431*100 -> 46.337644 | V19: =0.06491567916*100 -> 6.4915679 | W19: =0.1446079212*100 -> 14.460792 | X19: =SUM(R19:W19) -> 100
A20: Pre-Prez Trump | B20: 4.5658013 | C20: 2.1486124 | D20: 4.610564 | E20: 14.682184 | F20: 1.7905103 | G20: 4.431513 | H20: 14.324082 | I20: 2.0590868 | J20: 8.9973142 | K20: 29.677708 | L20: 1.5666965 | M20: 11.145927 | N20: =SUM(B20:M20) -> 100 | R20: self punish | S20: self threaten | T20: self oppose | U20: self appeal | V20: self promise | W20: self reward | X20: other punish | Y20: other threaten | Z20: other oppose | AA20: other appeal | AB20: other promise | AC20: other reward | AD20: total (should be 100)
A21: Prez Trump | B21: 4.3771044 | C21: 1.2794613 | D21: 4.5791246 | E21: 13.265993 | F21: 2.3569024 | G21: 5.7239057 | H21: 15.151515 | I21: 1.4814815 | J21: 8.8888889 | K21: 28.754209 | L21: 1.7508418 | M21: 12.390572 | N21: =SUM(B21:M21) -> 100 | Q21: Boris Johnson | R21: 2.3589744 | S21: 1.9487179 | T21: 3.8974359 | U21: 11.076923 | V21: 2.3589744 | W21: 3.7948718 | X21: 12.615385 | Y21: 1.8461538 | Z21: 10.25641 | AA21: 29.128205 | AB21: 3.6923077 | AC21: 17.025641 | AD21: =SUM(R21:AC21) -> 100
A22: Pre-PM Modi | B22: 0.51599587 | C22: 0.20639835 | D22: 1.2383901 | E22: 11.661507 | F22: 1.2383901 | G22: 4.6439628 | H22: 21.362229 | I22: 2.0639835 | J22: 8.255934 | K22: 25.283798 | L22: 3.7151703 | M22: 19.814241 | N22: =SUM(B22:M22) -> 100 | Q22: Donald Trump | R22: 4.4904544 | S22: 1.8015596 | T22: 4.5980102 | U22: 14.116698 | V22: 2.0166711 | W22: 4.9475666 | X22: 14.654477 | Y22: 1.8284485 | Z22: 8.9540199 | AA22: 29.308954 | AB22: 1.6402259 | AC22: 11.642915 | AD22: =SUM(R22:AC22) -> 100
A23: PM Modi | B23: 1.4367816 | C23: 0.14367816 | D23: 1.1494253 | E23: 11.206897 | F23: 1.0057471 | G23: 4.1666667 | H23: 17.241379 | I23: 1.1494253 | J23: 5.6034483 | K23: 26.149425 | L23: 5.4597701 | M23: 25.287356 | N23: =SUM(B23:M23) -> 100 | Q23: Narendra modi | R23: 0.9009009 | S23: 0.18018018 | T23: 1.2012012 | U23: 11.471471 | V23: 1.1411411 | W23: 4.4444444 | X23: 19.63964 | Y23: 1.6816817 | Z23: 7.1471471 | AA23: 25.645646 | AB23: 4.4444444 | AC23: 22.102102 | AD23: =SUM(R23:AC23) -> 100
A24: World Leader Avg
A25: Beliefs
A26: I1 | B26: What is the best approach for selecting goals or objectives for political action? -1 (conflictual) to +1 (cooperative)
A27: I2 | B27: How are the goals of action pursued most effectively? -1 (very conflictual tactics) +1 (very cooperative tactics).
A28: I3 | B28: How are the risks of political action calculated, controlled, and accepted? .00 (risk averse) to 1.00 (risk acceptant).
A29: I4a | B29: propensity to shift between cooperation and conflict, .00 (low shift propensity) to 1.00 (high shift propensity)
A30: I4b | B30: propensity to shift between words and deeds, .00 (low shift propensity) to 1.00 (high shift propensity)
A31: I5 | B31: What is the utility and role of different means for advancing one's interests? .00 (low utility) to 1.00 (high utility)
A32: P1 | B32: What is the "essential" nature of political life? Is the political universe one of harmony or conflict? What is the fundamental character of one's political opponents? -1 (very conflictual) to +1 (very cooperative).
A33: P2 | B33: What are the prospects for the eventual realization of one's fundamental political values and aspirations? Can one be optimistic, or must one be pessimistic on this score, and in what respects the one and/or the other? -1 (pessimistic) to +1 (optimistic)
A34: P3 | B34: Is the political future predictable? In what sense and to what extent? .00(lowest predictability) to 1.00 (highest predictability).
A35: P4 | B35: How much "control" or "mastery" can one have over historical development? What is one's role in "moving" and "shaping" history in the desired direction? .00 (other locus of control) to 1.00 (self-locus of control)
A36: P5 | B36: What is the role of "chance" in human affairs and in historical development? .00 (low role of chance) to 1.00 (high role for chance)
R54: Table
M55: Indicies | N55: Boris Johnson | O55: Donald Trump | P55: Narendra Modi | Q55: World leader Avg | R55: Person | S55: I1 | T55: I2 | U55: I3 | V55: I4a | W55: I4b | X55: I-5 punish | Y55: I-5 threaten | Z55: I-5 oppose | AA55: I-5 appeal | AB55: I-5 promise | AC55: I-5 reward | AD55: P1 | AE55: P2 | AF55: P3 | AG55: P4 | AH55: P5
M56: I-1 | N56: 0.3548 | O56: 0.3188 | P56: 0.764 | Q56: 0.34580009 | R56: Boris Johnson | S56: 0.3548 | T56: 0.1613 | U56: 0.11014568 | V56: 0.90974359 | W56: 0.71589744 | X56: =R16/100 -> 0.092741935 | Y56: =S16/100 -> 0.076612903 | Z56: =T16/100 -> 0.15322581 | AA56: =U16/100 -> 0.43548387 | AB56: =V16/100 -> 0.092741935 | AC56: =W16/100 -> 0.14919355 | AD56: 0.337 | AE56: 0.16 | AF56: 0.10642254 | AG56: 0.25435897 | AH56: 0.97293047
M57: I-2 | N57: 0.1613 | O57: 0.118 | P57: 0.3934 | Q57: 0.13880048 | R57: Donald Trump | S57: 0.3188 | T57: 0.118 | U57: 0.11977314 | V57: 0.89809088 | W57: 0.71470825 | X57: =R17/100 -> 0.14045416 | Y57: =S17/100 -> 0.056349874 | Z57: =T17/100 -> 0.14381833 | AA57: =U17/100 -> 0.44154752 | AB57: =V17/100 -> 0.063078217 | AC57: =W17/100 -> 0.15475189 | AD57: 0.2522 | AE57: 0.0536 | AF57: 0.13592426 | AG57: 0.3197096 | AH57: 0.95654371
M58: I-3 | N58: 0.11014568 | O58: 0.11977314 | P58: 0.29711045 | Q58: 0.27213986 | R58: Narendra modi | S58: 0.764 | T58: 0.3934 | U58: 0.29711045 | V58: 0.85225225 | W58: 0.94174174 | X58: =R18/100 -> 0.046583851 | Y58: =S18/100 -> 0.0093167702 | Z58: =T18/100 -> 0.062111801 | AA58: =U18/100 -> 0.5931677 | AB58: =V18/100 -> 0.059006211 | AC58: =W18/100 -> 0.22981366 | AD58: 0.2941 | AE58: 0.1298 | AF58: 0.096135002 | AG58: 0.19339339 | AH58: 0.98140813
M59: I-4a | N59: 0.90974359 | O59: 0.89809088 | P59: 0.85225225 | Q59: 0.59907914 | R59: World leader Avg | S59: 0.34580009 | T59: 0.13880048 | U59: 0.27213986 | V59: 0.59907914 | W59: 0.49202963 | X59: =R19/100 -> 0.12284964 | Y59: =S19/100 -> 0.037830907 | Z59: =T19/100 -> 0.16641941 | AA59: =U19/100 -> 0.46337644 | AB59: =V19/100 -> 0.064915679 | AC59: =W19/100 -> 0.14460792 | AD59: 0.27320144 | AE59: 0.12325928 | AF59: 0.12490684 | AG59: 0.20684805 | AH59: 0.97431587
M60: I-4b | N60: 0.71589744 | O60: 0.71470825 | P60: 0.94174174 | Q60: 0.49202963
M61: I-5 punish | N61: 0.092741935 | O61: 0.14045416 | P61: 0.046583851 | Q61: 0.12284964
M62: I-5 threaten | N62: 0.076612903 | O62: 0.056349874 | P62: 0.0093167702 | Q62: 0.037830907
M63: I-5 oppose | N63: 0.15322581 | O63: 0.14381833 | P63: 0.062111801 | Q63: 0.16641941
M64: I-5 appeal | N64: 0.43548387 | O64: 0.44154752 | P64: 0.5931677 | Q64: 0.46337644
M65: I-5 promise | N65: 0.092741935 | O65: 0.063078217 | P65: 0.059006211 | Q65: 0.064915679
M66: I-5 reward | N66: 0.14919355 | O66: 0.15475189 | P66: 0.22981366 | Q66: 0.14460792
M67: P-1 | N67: 0.337 | O67: 0.2522 | P67: 0.2941 | Q67: 0.27320144
M68: P-2 | N68: 0.16 | O68: 0.0536 | P68: 0.1298 | Q68: 0.12325928
M69: P-3 | N69: 0.10642254 | O69: 0.13592426 | P69: 0.096135002 | Q69: 0.12490684
M70: P-4 | N70: 0.25435897 | O70: 0.3197096 | P70: 0.19339339 | Q70: 0.20684805
M71: P-5 | N71: 0.97293047 | O71: 0.95654371 | P71: 0.98140813 | Q71: 0.97431587

Sheet Z-score
A1: Subject | B1: I-1 | C1: I-2 | D1: I-3 | E1: I-4A | F1: I-4B | G1: I-5AP | H1: I-5PR | I1: I-5RE | J1: I-5OP | K1: I-5TH | L1: I-5PU | M1: P-1 | N1: P-2 | O1: P-3 | P1: P-4 | Q1: P-5 | W1: Subject | X1: I1 | Y1: I2 | Z1: I3NEW | AA1: I4A | AB1: I4B | AC1: I5AP | AD1: I5TH | AE1: I5PU | AF1: P1 | AG1: P2 | AH1: P3NEW | AI1: P4 | AJ1: P5NEW
A2: World Avg | B2: 0.34580009 | C2: 0.13880048 | D2: 0.27213986 | E2: 0.59907914 | F2: 0.49202963 | G2: 0.46337644 | H2: 0.064915679 | I2: 0.14460792 | J2: 0.16641941 | K2: 0.037830907 | L2: 0.12284964 | M2: 0.27320144 | N2: 0.12325928 | O2: 0.12490684 | P2: 0.20684805 | Q2: 0.97431587 | W2: World Avg | X2: 0.34580009 | Y2: 0.13880048 | Z2: 0.27213986 | AA2: 0.59907914 | AB2: 0.49202963 | AC2: 0.46337644 | AD2: 0.037830907 | AE2: 0.12284964 | AF2: 0.27320144 | AG2: 0.12325928 | AH2: 0.12490684 | AI2: 0.20684805 | AJ2: 0.97431587
A3: World Std. Dev. | B3: 0.33584301 | C3: 0.22822247 | D3: 0.1425578 | E3: 0.26717827 | F3: 0.30367033 | G3: 0.1879516 | H3: 0.085465818 | I3: 0.13697443 | J3: 0.1496717 | K3: 0.073228399 | L3: 0.14452274 | M3: 0.27980137 | N3: 0.21861545 | O3: 0.057313871 | P3: 0.11420691 | Q3: 0.02082597 | W3: World Std. Dev. | X3: 0.33584301 | Y3: 0.22822247 | Z3: 0.1425578 | AA3: 0.26717827 | AB3: 0.30367033 | AC3: 0.1879516 | AD3: 0.073228399 | AE3: 0.14452274 | AF3: 0.27980137 | AG3: 0.21861545 | AH3: 0.057313871 | AI3: 0.11420691 | AJ3: 0.02082597
A4: Boris Johnson | B4: 0.3548 | C4: 0.1613 | D4: 0.11014568 | E4: 0.90974359 | F4: 0.71589744 | G4: =Summary!U16/100 -> 0.43548387 | H4: =Summary!V16/100 -> 0.092741935 | I4: =Summary!W16/100 -> 0.14919355 | J4: =Summary!T16/100 -> 0.15322581 | K4: =Summary!S16/100 -> 0.076612903 | L4: =Summary!R16/100 -> 0.092741935 | M4: 0.337 | N4: 0.16 | O4: 0.10642254 | P4: 0.25435897 | Q4: 0.97293047 | W4: Boris Johnson | X4: 0.3548 | Y4: 0.1613 | Z4: 0.11014568 | AA4: 0.90974359 | AB4: 0.71589744 | AC4: 0.43548387 | AD4: 0.076612903 | AE4: 0.092741935 | AF4: 0.337 | AG4: 0.16 | AH4: 0.10642254 | AI4: 0.25435897 | AJ4: 0.97293047
A5: Donald Trump | B5: 0.3188 | C5: 0.118 | D5: 0.11977314 | E5: 0.89809088 | F5: 0.71470825 | G5: =Summary!U17/100 -> 0.44154752 | H5: =Summary!V17/100 -> 0.063078217 | I5: =Summary!W17/100 -> 0.15475189 | J5: =Summary!T17/100 -> 0.14381833 | K5: =Summary!S17/100 -> 0.056349874 | L5: =Summary!R17/100 -> 0.14045416 | M5: 0.2522 | N5: 0.0536 | O5: 0.13592426 | P5: 0.3197096 | Q5: 0.95654371 | W5: Donald Trump | X5: 0.3188 | Y5: 0.118 | Z5: 0.11977314 | AA5: 0.89809088 | AB5: 0.71470825 | AC5: 0.44154752 | AD5: 0.056349874 | AE5: 0.14045416 | AF5: 0.2522 | AG5: 0.0536 | AH5: 0.13592426 | AI5: 0.3197096 | AJ5: 0.95654371
A6: Narendra modi | B6: 0.764 | C6: 0.3934 | D6: 0.29711045 | E6: 0.85225225 | F6: 0.94174174 | G6: =Summary!U18/100 -> 0.5931677 | H6: =Summary!V18/100 -> 0.059006211 | I6: =Summary!W18/100 -> 0.22981366 | J6: =Summary!T18/100 -> 0.062111801 | K6: =Summary!S18/100 -> 0.0093167702 | L6: =Summary!R18/100 -> 0.046583851 | M6: 0.2941 | N6: 0.1298 | O6: 0.096135002 | P6: 0.19339339 | Q6: 0.98140813 | W6: Narendra modi | X6: 0.764 | Y6: 0.3934 | Z6: 0.29711045 | AA6: 0.85225225 | AB6: 0.94174174 | AC6: 0.5931677 | AD6: 0.0093167702 | AE6: 0.046583851 | AF6: 0.2941 | AG6: 0.1298 | AH6: 0.096135002 | AI6: 0.19339339 | AJ6: 0.98140813
A7: Boris Pre-PM | B7: 0.2558 | C7: 0.0904 | D7: 0.099332973 | E7: 0.93831776 | F7: 0.75140187 | G7: =Summary!E10/100 -> 0.41860465 | H7: =Summary!F10/100 -> 0.054263566 | I7: =Summary!G10/100 -> 0.15503876 | J7: =Summary!D10/100 -> 0.14728682 | K7: =Summary!C10/100 -> 0.10077519 | L7: =Summary!B10/100 -> 0.12403101 | M7: 0.2808 | N7: 0.1051 | O7: 0.11861487 | P7: 0.21121495 | Q7: 0.97494677 | W7: Boris Pre-PM | X7: 0.2558 | Y7: 0.0904 | Z7: 0.099332973 | AA7: 0.93831776 | AB7: 0.75140187 | AC7: 0.41860465 | AD7: 0.10077519 | AE7: 0.12403101 | AF7: 0.2808 | AG7: 0.1051 | AH7: 0.11861487 | AI7: 0.21121495 | AJ7: 0.97494677
A8: Boris PM | B8: 0.4622 | C8: 0.23809999 | D8: 0.13107831 | E8: 0.875 | F8: 0.67272727 | G8: =Summary!E11/100 -> 0.45378151 | H8: =Summary!F11/100 -> 0.13445378 | I8: =Summary!G11/100 -> 0.14285714 | J8: =Summary!D11/100 -> 0.15966387 | K8: =Summary!C11/100 -> 0.050420168 | L8: =Summary!B11/100 -> 0.058823529 | M8: 0.4081 | N8: 0.2295 | O8: 0.096864355 | P8: 0.25454545 | Q8: 0.97534362 | W8: Boris PM | X8: 0.4622 | Y8: 0.23809999 | Z8: 0.13107831 | AA8: 0.875 | AB8: 0.67272727 | AC8: 0.45378151 | AD8: 0.050420168 | AE8: 0.058823529 | AF8: 0.4081 | AG8: 0.2295 | AH8: 0.096864355 | AI8: 0.25454545 | AJ8: 0.97534362
A9: Pre-Prez Trump | B9: 0.2972 | C9: 0.092599996 | D9: 0.12940278 | E9: 0.9042077 | F9: 0.68934646 | G9: =Summary!E12/100 -> 0.45555556 | H9: =Summary!F12/100 -> 0.055555556 | I9: =Summary!G12/100 -> 0.1375 | J9: =Summary!D12/100 -> 0.14305556 | K9: =Summary!C12/100 -> 0.066666667 | L9: =Summary!B12/100 -> 0.14166667 | M9: 0.251 | N9: 0.05 | O9: 0.13908723 | P9: 0.27663384 | Q9: 0.96152376 | W9: Pre-Prez Trump | X9: 0.2972 | Y9: 0.092599996 | Z9: 0.12940278 | AA9: 0.9042077 | AB9: 0.68934646 | AC9: 0.45555556 | AD9: 0.066666667 | AE9: 0.14166667 | AF9: 0.251 | AG9: 0.05 | AH9: 0.13908723 | AI9: 0.27663384 | AJ9: 0.96152376
A10: Prez Trump | B10: 0.3518 | C10: 0.1571 | D10: 0.10806734 | E10: 0.88888889 | F10: 0.75286195 | G10: =Summary!E13/100 -> 0.42004264 | H10: =Summary!F13/100 -> 0.074626866 | I10: =Summary!G13/100 -> 0.18123667 | J10: =Summary!D13/100 -> 0.14498934 | K10: =Summary!C13/100 -> 0.040511727 | L10: =Summary!B13/100 -> 0.13859275 | M10: 0.2539 | N10: 0.0591 | O10: 0.13177119 | P10: 0.27205387 | Q10: 0.96415114 | W10: Prez Trump | X10: 0.3518 | Y10: 0.1571 | Z10: 0.10806734 | AA10: 0.88888889 | AB10: 0.75286195 | AC10: 0.42004264 | AD10: 0.040511727 | AE10: 0.13859275 | AF10: 0.2539 | AG10: 0.0591 | AH10: 0.13177119 | AI10: 0.27205387 | AJ10: 0.96415114
A11: Pre-PM Modi | B11: 0.7989 | C11: 0.425 | D11: 0.30763416 | E11: 0.84416925 | F11: 0.92672859 | G11: =Summary!E14/100 -> 0.5978836 | H11: =Summary!F14/100 -> 0.063492063 | I11: =Summary!G14/100 -> 0.23809524 | J11: =Summary!D14/100 -> 0.063492063 | K11: =Summary!C14/100 -> 0.010582011 | L11: =Summary!B14/100 -> 0.026455026 | M11: 0.2128 | N11: 0.065 | O11: 0.091585799 | P11: 0.18988648 | Q11: 0.98260909 | W11: Pre-PM Modi | X11: 0.7989 | Y11: 0.425 | Z11: 0.30763416 | AA11: 0.84416925 | AB11: 0.92672859 | AC11: 0.5978836 | AD11: 0.010582011 | AE11: 0.026455026 | AF11: 0.2128 | AG11: 0.065 | AH11: 0.091585799 | AI11: 0.18988648 | AJ11: 0.98260909
A12: PM Modi | B12: 0.7143 | C12: 0.3484 | D12: 0.28430098 | E12: 0.86350575 | F12: 0.96264368 | G12: =Summary!E15/100 -> 0.58646617 | H12: =Summary!F15/100 -> 0.052631579 | I12: =Summary!G15/100 -> 0.21804511 | J12: =Summary!D15/100 -> 0.060150376 | K12: =Summary!C15/100 -> 0.007518797 | L12: =Summary!B15/100 -> 0.07518797 | M12: 0.4067 | N12: 0.2197 | O12: 0.10865731 | P12: 0.17672414 | Q12: 0.98079763 | W12: PM Modi | X12: 0.7143 | Y12: 0.3484 | Z12: 0.28430098 | AA12: 0.86350575 | AB12: 0.96264368 | AC12: 0.58646617 | AD12: 0.007518797 | AE12: 0.07518797 | AF12: 0.4067 | AG12: 0.2197 | AH12: 0.10865731 | AI12: 0.17672414 | AJ12: 0.98079763
A13: Z-scores | B13: I-1 | C13: I-2 | D13: I-3 | E13: I-4A | F13: I-4B | G13: I-5AP | H13: I-5PR | I13: I-5RE | J13: I-5OP | K13: I-5TH | L13: I-5PU | M13: P-1 | N13: P-2 | O13: P-3 | P13: P-4 | Q13: P-5
A14: World | B14: =(B2-B2)/B3 -> 0 | C14: =(C2-C2)/C3 -> 0 | D14: =(D2-D2)/D3 -> 0 | E14: =(E2-E2)/E3 -> 0 | F14: =(F2-F2)/F3 -> 0 | G14: =(G2-G2)/G3 -> 0 | H14: =(H2-H2)/H3 -> 0 | I14: =(I2-I2)/I3 -> 0 | ... Q14: =(Q2-Q2)/Q3 -> 0 | AA14: Subject | AC14: Subject | AD14: Pre-PM Boris | AE14: PM Boris | AF14: Pre-Prez Trump | AG14: Prez Trump | AH14: Pre-PM Modi | AI14: PM Modi | AK14: Z-scores | AL14: I-1 | AM14: I-2 | AN14: I-3 | AO14: I-4A | AP14: I-4B | AQ14: I-5AP | AR14: I-5PR | AS14: I-5RE | AT14: I-5OP | AU14: I-5TH | AV14: I-5PU | AW14: P-1 | AX14: P-2 | AY14: P-3 | AZ14: P-4 | BA14: P-5
A15: Boris Johnson | B15: =(B4-B$2)/B$3 -> 0.026797976 | C15: =(C4-C$2)/C$3 -> 0.098585925 | D15: =(D4-D$2)/D$3 -> -1.1363403 | E15: =(E4-E$2)/E$3 -> 1.1627609 | F15: =(F4-F$2)/F$3 -> 0.73720673 | G15: =(G4-G$2)/G$3 -> -0.14840295 | H15: =(H4-H$2)/H$3 -> 0.32558345 | I15: =(I4-I$2)/I$3 -> 0.033477979 | ... Q15: =(Q4-Q$2)/Q$3 -> -0.066522884 | AA15: I1 | AC15: I-1 | AD15: 0.2558 | AE15: 0.4622 | AF15: 0.2972 | AG15: 0.3518 | AH15: 0.7989 | AI15: 0.7143 | AK15: World | AL15: 0 | AM15: 0 | AN15: 0 | AO15: 0 | AP15: 0 | AQ15: 0 | AR15: 0 | AS15: 0 | AT15: 0 | AU15: 0 | AV15: 0 | AW15: 0 | AX15: 0 | AY15: 0 | AZ15: 0 | BA15: 0
A16: Donald Trump | B16: =(B5-B$2)/B$3 -> -0.080394964 | C16: =(C5-C$2)/C$3 -> -0.091141228 | D16: =(D5-D$2)/D$3 -> -1.0688066 | E16: =(E5-E$2)/E$3 -> 1.1191469 | F16: =(F5-F$2)/F$3 -> 0.7332907 | G16: =(G5-G$2)/G$3 -> -0.1161412 | H16: =(H5-H$2)/H$3 -> -0.021499381 | I16: =(I5-I$2)/I$3 -> 0.074057405 | ... Q16: =(Q5-Q$2)/Q$3 -> -0.85336557 | AA16: I2 | AC16: I-2 | AD16: 0.0904 | AE16: 0.23809999 | AF16: 0.092599996 | AG16: 0.1571 | AH16: 0.425 | AI16: 0.3484 | AK16: Boris Johnson | AL16: 0.026797976 | AM16: 0.098585925 | AN16: -1.1363403 | AO16: 1.1627609 | AP16: 0.73720673 | AQ16: -0.14840295 | AR16: 0.32558345 | AS16: 0.033477979 | AT16: -0.088150311 | AU16: 0.52960322 | AV16: -0.20832501 | AW16: 0.22801376 | AX16: 0.16806093 | AY16: -0.32251009 | AZ16: 0.41600745 | BA16: -0.066522884
A17: Narendra modi | B17: =(B6-B$2)/B$3 -> 1.2452244 | C17: =(C6-C$2)/C$3 -> 1.115576 | D17: =(D6-D$2)/D$3 -> 0.1751612 | E17: =(E6-E$2)/E$3 -> 0.94758121 | F17: =(F6-F$2)/F$3 -> 1.4809222 | G17: =(G6-G$2)/G$3 -> 0.69055683 | H17: =(H6-H$2)/H$3 -> -0.069144227 | I17: =(I6-I$2)/I$3 -> 0.62205582 | ... Q17: =(Q6-Q$2)/Q$3 -> 0.34054841 | AA17: I3 | AC17: I-3 | AD17: 0.099332973 | AE17: 0.13107831 | AF17: 0.12940278 | AG17: 0.10806734 | AH17: 0.30763416 | AI17: 0.28430098 | AK17: Donald Trump | AL17: -0.080394964 | AM17: -0.091141228 | AN17: -1.0688066 | AO17: 1.1191469 | AP17: 0.7332907 | AQ17: -0.1161412 | AR17: -0.021499381 | AS17: 0.074057405 | AT17: -0.15100436 | AU17: 0.25289323 | AV17: 0.12181147 | AW17: -0.075058374 | AX17: -0.31863844 | AY17: 0.19222949 | AZ17: 0.98821997 | BA17: -0.85336557
A18: Boris Pre-PM | B18: =(B7-B$2)/B$3 -> -0.26798261 | C18: =(C7-C$2)/C$3 -> -0.21207586 | D18: =(D7-D$2)/D$3 -> -1.2121882 | E18: =(E7-E$2)/E$3 -> 1.2697088 | F18: =(F7-F$2)/F$3 -> 0.85412442 | G18: =(G7-G$2)/G$3 -> -0.23820916 | H18: =(H7-H$2)/H$3 -> -0.12463595 | I18: =(I7-I$2)/I$3 -> 0.076151718 | ... Q18: =(Q7-Q$2)/Q$3 -> 0.030293518 | AA18: I4A | AC18: I-4A | AD18: 0.93831776 | AE18: 0.875 | AF18: 0.9042077 | AG18: 0.88888889 | AH18: 0.84416925 | AI18: 0.86350575 | AK18: Narendra modi | AL18: 1.2452244 | AM18: 1.115576 | AN18: 0.1751612 | AO18: 0.94758121 | AP18: 1.4809222 | AQ18: 0.69055683 | AR18: -0.069144227 | AS18: 0.62205582 | AT18: -0.69690939 | AU18: -0.38938632 | AV18: -0.52770787 | AW18: 0.074690711 | AX18: 0.029918814 | AY18: -0.50200487 | AZ18: -0.11780946 | BA18: 0.34054841
A19: Boris PM | B19: =(B8-B$2)/B$3 -> 0.34659025 | C19: =(C8-C$2)/C$3 -> 0.43509963 | D19: =(D8-D$2)/D$3 -> -0.9895042 | E19: =(E8-E$2)/E$3 -> 1.0327219 | F19: =(F8-F$2)/F$3 -> 0.59504545 | G19: =(G8-G$2)/G$3 -> -0.051050008 | H19: =(H8-H$2)/H$3 -> 0.81363642 | I19: =(I8-I$2)/I$3 -> -0.012781789 | ... Q19: =(Q8-Q$2)/Q$3 -> 0.049349151 | AA19: I4B | AC19: I-4B | AD19: 0.75140187 | AE19: 0.67272727 | AF19: 0.68934646 | AG19: 0.75286195 | AH19: 0.92672859 | AI19: 0.96264368 | AK19: Boris Pre-PM | AL19: -0.26798261 | AM19: -0.21207586 | AN19: -1.2121882 | AO19: 1.2697088 | AP19: 0.85412442 | AQ19: -0.23820916 | AR19: -0.12463595 | AS19: 0.076151718 | AT19: -0.12783039 | AU19: 0.85956115 | AV19: 0.0081742969 | AW19: 0.027156992 | AX19: -0.083064966 | AY19: -0.10978108 | AZ19: 0.038236783 | BA19: 0.030293518
A20: Pre-Prez Trump | B20: =(B9-B$2)/B$3 -> -0.14471073 | C20: =(C9-C$2)/C$3 -> -0.20243616 | D20: =(D9-D$2)/D$3 -> -1.0012576 | E20: =(E9-E$2)/E$3 -> 1.1420411 | F20: =(F9-F$2)/F$3 -> 0.64977319 | G20: =(G9-G$2)/G$3 -> -0.041611179 | H20: =(H9-H$2)/H$3 -> -0.10951891 | I20: =(I9-I$2)/I$3 -> -0.05189232 | ... Q20: =(Q9-Q$2)/Q$3 -> -0.6142384 | AA20: I5AP | AC20: I-5AP | AD20: 0.41860465 | AE20: 0.45378151 | AF20: 0.45555556 | AG20: 0.42004264 | AH20: 0.5978836 | AI20: 0.58646617 | AK20: Boris PM | AL20: 0.34659025 | AM20: 0.43509963 | AN20: -0.9895042 | AO20: 1.0327219 | AP20: 0.59504545 | AQ20: -0.051050008 | AR20: 0.81363642 | AS20: -0.012781789 | AT20: -0.045135772 | AU20: 0.17191774 | AV20: -0.44301754 | AW20: 0.48212259 | AX20: 0.48597075 | AY20: -0.48927927 | AZ20: 0.41764028 | BA20: 0.049349151
A21: Prez Trump | B21: =(B10-B$2)/B$3 -> 0.017865231 | C21: =(C10-C$2)/C$3 -> 0.080182829 | D21: =(D10-D$2)/D$3 -> -1.1509193 | E21: =(E10-E$2)/E$3 -> 1.0847055 | F21: =(F10-F$2)/F$3 -> 0.85893254 | G21: =(G10-G$2)/G$3 -> -0.23055829 | H21: =(H10-H$2)/H$3 -> 0.11362655 | I21: =(I10-I$2)/I$3 -> 0.26741306 | ... Q21: =(Q10-Q$2)/Q$3 -> -0.48807988 | AA21: I5PR | AC21: I-5PR | AD21: 0.054263566 | AE21: 0.13445378 | AF21: 0.055555556 | AG21: 0.074626866 | AH21: 0.063492063 | AI21: 0.052631579 | AK21: Pre-Prez Trump | AL21: -0.14471073 | AM21: -0.20243616 | AN21: -1.0012576 | AO21: 1.1420411 | AP21: 0.64977319 | AQ21: -0.041611179 | AR21: -0.10951891 | AS21: -0.05189232 | AT21: -0.1561007 | AU21: 0.39377837 | AV21: 0.13020118 | AW21: -0.079347131 | AX21: -0.33510571 | AY21: 0.24741635 | AZ21: 0.61104701 | BA21: -0.6142384
A22: Pre-PM Modi | B22: =(B11-B$2)/B$3 -> 1.349142 | C22: =(C11-C$2)/C$3 -> 1.2540374 | D22: =(D11-D$2)/D$3 -> 0.24898188 | E22: =(E11-E$2)/E$3 -> 0.91732798 | F22: =(F11-F$2)/F$3 -> 1.4314832 | G22: =(G11-G$2)/G$3 -> 0.71564784 | H22: =(H11-H$2)/H$3 -> -0.016657135 | I22: =(I11-I$2)/I$3 -> 0.68251654 | ... Q22: =(Q11-Q$2)/Q$3 -> 0.39821531 | AA22: I5RE | AC22: I-5RE | AD22: 0.15503876 | AE22: 0.14285714 | AF22: 0.1375 | AG22: 0.18123667 | AH22: 0.23809524 | AI22: 0.21804511 | AK22: Prez Trump | AL22: 0.017865231 | AM22: 0.080182829 | AN22: -1.1509193 | AO22: 1.0847055 | AP22: 0.85893254 | AQ22: -0.23055829 | AR22: 0.11362655 | AS22: 0.26741306 | AT22: -0.14318054 | AU22: 0.036609019 | AV22: 0.10893175 | AW22: -0.068982636 | AX22: -0.2934801 | AY22: 0.11976759 | AZ22: 0.57094464 | BA22: -0.48807988
A23: PM Modi | B23: =(B12-B$2)/B$3 -> 1.0972386 | C23: =(C12-C$2)/C$3 -> 0.91840002 | D23: =(D12-D$2)/D$3 -> 0.08530661 | E23: =(E12-E$2)/E$3 -> 0.98970101 | F23: =(F12-F$2)/F$3 -> 1.5497532 | G23: =(G12-G$2)/G$3 -> 0.65490118 | H23: =(H12-H$2)/H$3 -> -0.14373115 | I23: =(I12-I$2)/I$3 -> 0.53613795 | ... Q23: =(Q12-Q$2)/Q$3 -> 0.31123425 | AA23: I5OP | AC23: I-5OP | AD23: 0.14728682 | AE23: 0.15966387 | AF23: 0.14305556 | AG23: 0.14498934 | AH23: 0.063492063 | AI23: 0.060150376 | AK23: Pre-PM Modi | AL23: 1.349142 | AM23: 1.2540374 | AN23: 0.24898188 | AO23: 0.91732798 | AP23: 1.4314832 | AQ23: 0.71564784 | AR23: -0.016657135 | AS23: 0.68251654 | AT23: -0.68768746 | AU23: -0.37210832 | AV23: -0.66698578 | AW23: -0.21587255 | AX23: -0.26649208 | AY23: -0.58137838 | AZ23: -0.14851612 | BA23: 0.39821531
AA24: I5TH | AC24: I-5TH | AD24: 0.10077519 | AE24: 0.050420168 | AF24: 0.066666667 | AG24: 0.040511727 | AH24: 0.010582011 | AI24: 0.007518797 | AK24: PM Modi | AL24: 1.0972386 | AM24: 0.91840002 | AN24: 0.08530661 | AO24: 0.98970101 | AP24: 1.5497532 | AQ24: 0.65490118 | AR24: -0.14373115 | AS24: 0.53613795 | AT24: -0.71001424 | AU24: -0.41393927 | AV24: -0.32978663 | AW24: 0.47711904 | AX24: 0.44114318 | AY24: -0.28351829 | AZ24: -0.26376609 | BA24: 0.31123425
AA25: I5PU | AC25: I-5PU | AD25: 0.12403101 | AE25: 0.058823529 | AF25: 0.14166667 | AG25: 0.13859275 | AH25: 0.026455026 | AI25: 0.07518797
AA26: P1 | AC26: P-1 | AD26: 0.2808 | AE26: 0.4081 | AF26: 0.251 | AG26: 0.2539 | AH26: 0.2128 | AI26: 0.4067
AA27: P2 | AC27: P-2 | AD27: 0.1051 | AE27: 0.2295 | AF27: 0.05 | AG27: 0.0591 | AH27: 0.065 | AI27: 0.2197
AA28: P3 | AC28: P-3 | AD28: 0.11861487 | AE28: 0.096864355 | AF28: 0.13908723 | AG28: 0.13177119 | AH28: 0.091585799 | AI28: 0.10865731
AA29: P4 | AC29: P-4 | AD29: 0.21121495 | AE29: 0.25454545 | AF29: 0.27663384 | AG29: 0.27205387 | AH29: 0.18988648 | AI29: 0.17672414
AA30: P5 | AC30: P-5 | AD30: 0.97494677 | AE30: 0.97534362 | AF30: 0.96152376 | AG30: 0.96415114 | AH30: 0.98260909 | AI30: 0.98079763
AB35: word count | AC35: self punish | AD35: self threaten | AE35: self oppose | AF35: self appeal | AG35: self promise | AH35: self reward | AI35: other punish | AJ35: other threaten | AK35: other oppose | AL35: other appeal | AM35: other promise | AN35: other reward | AO35: I1 | AP35: I2 | AQ35: P1 | AR35: P2
AB36: 151 | AC36: 0 | AD36: 0 | AE36: 0 | AF36: 2 | AG36: 0 | AH36: 1 | AI36: 0 | AJ36: 0 | AK36: 3 | AL36: 5 | AM36: 0 | AN36: 3 | AO36: 1 | AP36: 0.5556 | AQ36: 0.4545 | AR36: 0.3333
AB39: word count | AC39: 151
AB40: self punish | AC40: 0
AB41: self threaten | AC41: 0
AB42: self oppose | AC42: 0
AB43: self appeal | AC43: 2
AB44: self promise | AC44: 0
AB45: self reward | AC45: 1
AB46: other punish | AC46: 0
AB47: other threaten | AC47: 0
AB48: other oppose | AC48: 3
AB49: other appeal | AC49: 5
AB50: other promise | AC50: 0
... AB55: P2 | AC55: 0.3333
AC62: Z-scores | AD62: Boris Johnson | AE62: Donald Trump | AF62: Narendra Modi | AH62: Boris Pre-PM | AI62: Boris PM | AJ62: Pre-Prez Trump | AK62: Prez Trump | AL62: Pre-PM Modi | AM62: PM Modi
AC63: I-1 | AD63: 0.026797976 | AE63: -0.080394964 | AF63: 1.2452244 | AH63: -0.26798261 | AI63: 0.34659025 | AJ63: -0.14471073 | AK63: 0.017865231 | AL63: 1.349142 | AM63: 1.0972386
AC64: I-2 | AD64: 0.098585925 | AE64: -0.091141228 | AF64: 1.115576 | AH64: -0.21207586 | AI64: 0.43509963 | AJ64: -0.20243616 | AK64: 0.080182829 | AL64: 1.2540374 | AM64: 0.91840002
AC65: I-3 | AD65: -1.1363403 | AE65: -1.0688066 | AF65: 0.1751612 | AH65: -1.2121882 | AI65: -0.9895042 | AJ65: -1.0012576 | AK65: -1.1509193 | AL65: 0.24898188 | AM65: 0.08530661
AC66: I-4A | AD66: 1.1627609 | AE66: 1.1191469 | AF66: 0.94758121 | AH66: 1.2697088 | AI66: 1.0327219 | AJ66: 1.1420411 | AK66: 1.0847055 | AL66: 0.91732798 | AM66: 0.98970101
AC67: I-4B | AD67: 0.73720673 | AE67: 0.7332907 | AF67: 1.4809222 | AH67: 0.85412442 | AI67: 0.59504545 | AJ67: 0.64977319 | AK67: 0.85893254 | AL67: 1.4314832 | AM67: 1.5497532
AC68: I-5AP | AD68: -0.14840295 | AE68: -0.1161412 | AF68: 0.69055683 | AH68: -0.23820916 | AI68: -0.051050008 | AJ68: -0.041611179 | AK68: -0.23055829 | AL68: 0.71564784 | AM68: 0.65490118
AC69: I-5PR | AD69: 0.32558345 | AE69: -0.021499381 | AF69: -0.069144227 | AH69: -0.12463595 | AI69: 0.81363642 | AJ69: -0.10951891 | AK69: 0.11362655 | AL69: -0.016657135 | AM69: -0.14373115
AC70: I-5RE | AD70: 0.033477979 | AE70: 0.074057405 | AF70: 0.62205582 | AH70: 0.076151718 | AI70: -0.012781789 | AJ70: -0.05189232 | AK70: 0.26741306 | AL70: 0.68251654 | AM70: 0.53613795
AC71: I-5OP | AD71: -0.088150311 | AE71: -0.15100436 | AF71: -0.69690939 | AH71: -0.12783039 | AI71: -0.045135772 | AJ71: -0.1561007 | AK71: -0.14318054 | AL71: -0.68768746 | AM71: -0.71001424
AC72: I-5TH | AD72: 0.52960322 | AE72: 0.25289323 | AF72: -0.38938632 | AH72: 0.85956115 | AI72: 0.17191774 | AJ72: 0.39377837 | AK72: 0.036609019 | AL72: -0.37210832 | AM72: -0.41393927
AC73: I-5PU | AD73: -0.20832501 | AE73: 0.12181147 | AF73: -0.52770787 | AH73: 0.0081742969 | AI73: -0.44301754 | AJ73: 0.13020118 | AK73: 0.10893175 | AL73: -0.66698578 | AM73: -0.32978663
AC74: P-1 | AD74: 0.22801376 | AE74: -0.075058374 | AF74: 0.074690711 | AH74: 0.027156992 | AI74: 0.48212259 | AJ74: -0.079347131 | AK74: -0.068982636 | AL74: -0.21587255 | AM74: 0.47711904
... AC78: P-5 | AD78: -0.066522884 | AE78: -0.85336557 | AF78: 0.34054841 | AH78: 0.030293518 | AI78: 0.049349151 | AJ78: -0.6142384 | AK78: -0.48807988 | AL78: 0.39821531 | AM78: 0.31123425
